BEGIN:VCALENDAR
VERSION:2.0
PRODID:-//jEvents 2.0 for Joomla//EN
CALSCALE:GREGORIAN
METHOD:PUBLISH
BEGIN:VTIMEZONE
TZID:Europe/Berlin
END:VTIMEZONE
BEGIN:VEVENT
UID:4tpo8qp3bjh7bdd9dkq1bk0vlm@google.com
CATEGORIES:Feuerwehr Sittensen
CREATED:20250313T221939
SUMMARY:Zugdienst
DESCRIPTION;ENCODING=QUOTED-PRINTABLE:
DTSTAMP:20260421T122406Z
DTSTART;TZID=Europe/Berlin:20250410T190000
SEQUENCE:0
TRANSP:OPAQUE
END:VEVENT
END:VCALENDAR