BEGIN:VCALENDAR
VERSION:2.0
PRODID:-//jEvents 2.0 for Joomla//EN
CALSCALE:GREGORIAN
METHOD:PUBLISH
BEGIN:VTIMEZONE
TZID:Europe/Berlin
END:VTIMEZONE
BEGIN:VEVENT
UID:1tp4dpk6otkh894lp071e77n98@google.com
CATEGORIES:Feuerwehr Sittensen
CREATED:20250313T221939
SUMMARY:Ausbildungsdienst
DESCRIPTION;ENCODING=QUOTED-PRINTABLE:
DTSTAMP:20260421T135809Z
DTSTART;TZID=Europe/Berlin:20250430T190000
SEQUENCE:0
TRANSP:OPAQUE
END:VEVENT
END:VCALENDAR